BEGIN:VCALENDAR
VERSION:2.0
PRODID:-//hacksw/handcal//NONSGML v1.0//EN
BEGIN:VEVENT
SUMMARY:CDC Open
UID:0a1afbeb-0c9c-461f-a0d6-f030f1af4533
DTSTART:20260301T070000Z
DTEND:20260301T170000Z
LOCATION:Localisation   
CATEGORIES:Sportif
STATUS:
URL;VALUE=URI:https://petanque-club-rochois.sportsregions.fr/evenements/2026/03/01/cdc-open-2429072
END:VEVENT
END:VCALENDAR
