BEGIN:VCALENDAR
VERSION:2.0
PRODID:-//hacksw/handcal//NONSGML v1.0//EN
BEGIN:VEVENT
SUMMARY:CDC Open / Feminin
UID:cff8a1b9-f5f9-4c9f-8641-b7fd51845158
DTSTART:20260315T070000Z
DTEND:20260315T170000Z
LOCATION:Localisation   
CATEGORIES:Sportif
STATUS:
DESCRIPTION:<p>Journee pour Open</p>
 
 <p>Apres-midi pour les
 filles</p>
URL;VALUE=URI:https://petanque-club-rochois.sportsregions.fr/evenements/2026/03/15/cdc-open-feminin-2429074
END:VEVENT
END:VCALENDAR
